BEGIN:VCALENDAR
VERSION:2.0
PRODID:City of Livermore website Calendar Creator
METHOD:PUBLISH
BEGIN:VEVENT
DTSTAMP:20260415T153138
DTSTART:20260529T100000
DTEND:20260529T104500
SUMMARY:Nature Storytime with LARPD
DESCRIPTION:<p>Join a librarian and naturalists from <a href="https://www.larpd.org/" target="_blank" rel="noopener">LARPD</a> to enjoy a storytime and learn about the springtime flora and fauna in the native garden.&nbsp;Registration is not required</p><p>Sycamore Grove Park<br>1051 Wetmore Rd, Livermore, CA 94550</p>
X-ALT-DESC;FMTTYPE=text/html:<p>Join a librarian and naturalists from <a href="https://www.larpd.org/" target="_blank" rel="noopener">LARPD</a> to enjoy a storytime and learn about the springtime flora and fauna in the native garden.&nbsp;Registration is not required</p><p>Sycamore Grove Park<br>1051 Wetmore Rd, Livermore, CA 94550</p>
LOCATION:Sycamore Grove Park\, 1051 Wetmore Road Livermore\, California 94550
CLASS:PUBLIC
END:VEVENT
END:VCALENDAR
