BEGIN:VCALENDAR
VERSION:2.0
PRODID:City of Livermore website Calendar Creator
METHOD:PUBLISH
BEGIN:VEVENT
DTSTAMP:20260416T191221
DTSTART:20260530T110000
DTEND:20260530T150000
SUMMARY:Summer Learning Festival
DESCRIPTION:Everyone, all ages, come sign up at Civic Center Library for the Summer Learning Program and enjoy fun performers, crafts, and workshops.&nbsp;
X-ALT-DESC;FMTTYPE=text/html:Everyone, all ages, come sign up at Civic Center Library for the Summer Learning Program and enjoy fun performers, crafts, and workshops.&nbsp;
LOCATION:Civic Center Library\, 1188 S. Livermore Ave Livermore\, California 94550
CLASS:PUBLIC
END:VEVENT
END:VCALENDAR
