BEGIN:VCALENDAR
VERSION:2.0
PRODID:City of Livermore website Calendar Creator
METHOD:PUBLISH
BEGIN:VEVENT
DTSTAMP:20210923T162447
DTSTART:20210929T000000
DTEND:20210929T235900
SUMMARY:Take & Make: Papel Picado & Flores de Papel
DESCRIPTION:<p>September 15, 2021 – October 15, 2021<br>Visit your Civic Center Library to pick up a free Take &amp; Make bag featuring beautiful paper flowers and banners. Learn about the history and cultural significance of both crafts by reading the bilingual brochure. Supplies, instructions, and brochures are included. Bags are available while supplies last.</p><p>15 de septiembre 2021 – 15 de octubre 2021<br>Visita tu Biblioteca Civic Center para recoger un Kit de Arte gratis con hermosas artesanías de flores de papel y papel picado. Aprende sobre la historia y el significado cultural de ambas artesanías leyendo el folleto bilingüe. Se incluyen suministros, instrucciones y folletos. Las bolsas están disponibles mientras duren los suministros.</p><p><label>When:&nbsp;</label>Wednesday, September 29, 2021<br><label>Time:&nbsp;</label>All Day<br><label>Where:&nbsp;</label>Civic Center Library, 1188 S. Livermore Ave, Livermore, CA, 94550<br><label>Suggested Audience:&nbsp;</label>All ages<br><label>Contact:&nbsp;</label>Jacquelyn Martinez&nbsp; 925-373-5551</p>
X-ALT-DESC;FMTTYPE=text/html:<p>September 15, 2021 – October 15, 2021<br>Visit your Civic Center Library to pick up a free Take &amp; Make bag featuring beautiful paper flowers and banners. Learn about the history and cultural significance of both crafts by reading the bilingual brochure. Supplies, instructions, and brochures are included. Bags are available while supplies last.</p><p>15 de septiembre 2021 – 15 de octubre 2021<br>Visita tu Biblioteca Civic Center para recoger un Kit de Arte gratis con hermosas artesanías de flores de papel y papel picado. Aprende sobre la historia y el significado cultural de ambas artesanías leyendo el folleto bilingüe. Se incluyen suministros, instrucciones y folletos. Las bolsas están disponibles mientras duren los suministros.</p><p><label>When:&nbsp;</label>Wednesday, September 29, 2021<br><label>Time:&nbsp;</label>All Day<br><label>Where:&nbsp;</label>Civic Center Library, 1188 S. Livermore Ave, Livermore, CA, 94550<br><label>Suggested Audience:&nbsp;</label>All ages<br><label>Contact:&nbsp;</label>Jacquelyn Martinez&nbsp; 925-373-5551</p>
LOCATION:Civic Center Library\, 1188 S. Livermore Ave Livermore\, California 94550
CLASS:PUBLIC
END:VEVENT
END:VCALENDAR
