BEGIN:VCALENDAR
VERSION:2.0
PRODID:City of Livermore website Calendar Creator
METHOD:PUBLISH
BEGIN:VEVENT
DTSTAMP:20210923T164358
DTSTART:20211005T000000
DTEND:20211005T235900
SUMMARY:Kids Take & Make Bat Craft SP
DESCRIPTION:<p>Take and Make craft kits for children (ages 5 and up) will be available at the Springtown Branch&nbsp; on a first-come, first-served basis, while supplies last:</p><p>Flapping Bat: Tuesday, October 5, 2021<br>Color Spinner: Tuesday, November 2, 2021<br>Floating Ball: Tuesday, December 7, 2021</p><p>These free Take and Make craft kits will contain instructions and the specialized supplies necessary to complete the activity at home. Participants&nbsp;will need basic supplies like tape, scissors, or crayons. One kit per child, per month.</p><p><label>When:&nbsp;</label>Tuesday, October 5, 2021<br><label>Time:&nbsp;</label>All Day<br><label>Where:&nbsp;</label>Springtown Library, 998 Bluebell Drive, Livermore, CA, 94551<br><label>Event Type:&nbsp;</label>Library, Children's<br><label>Contact:&nbsp;</label>Caitlyn Lung&nbsp; 925-373-5576</p>
X-ALT-DESC;FMTTYPE=text/html:<p>Take and Make craft kits for children (ages 5 and up) will be available at the Springtown Branch&nbsp; on a first-come, first-served basis, while supplies last:</p><p>Flapping Bat: Tuesday, October 5, 2021<br>Color Spinner: Tuesday, November 2, 2021<br>Floating Ball: Tuesday, December 7, 2021</p><p>These free Take and Make craft kits will contain instructions and the specialized supplies necessary to complete the activity at home. Participants&nbsp;will need basic supplies like tape, scissors, or crayons. One kit per child, per month.</p><p><label>When:&nbsp;</label>Tuesday, October 5, 2021<br><label>Time:&nbsp;</label>All Day<br><label>Where:&nbsp;</label>Springtown Library, 998 Bluebell Drive, Livermore, CA, 94551<br><label>Event Type:&nbsp;</label>Library, Children's<br><label>Contact:&nbsp;</label>Caitlyn Lung&nbsp; 925-373-5576</p>
LOCATION:Springtown Library\, 
CLASS:PUBLIC
END:VEVENT
END:VCALENDAR
