BEGIN:VCALENDAR
VERSION:2.0
PRODID:City of Livermore website Calendar Creator
METHOD:PUBLISH
BEGIN:VEVENT
DTSTAMP:20211101T164501
DTSTART:20211104T190000
DTEND:20211104T235900
SUMMARY:Book Club: We're Talkin' Books!
DESCRIPTION:Upcoming Book Club Pick:&nbsp;<br><br><strong><a href="https://livermorelibrary.bibliocommons.com/v2/record/S175C1612774" target="_self"><em>The Bad-Ass Librarians of Timbuktu and Their Race to Save the World's Most Precious Manuscripts</em></a> by Joshua Hammer</strong><br><br>Joshua Hammer’s book describes how a group of Timbuktu librarians enacted a daring plan to save the city's great collection of rare Islamic manuscripts from the threat of destruction at the hands of Al-Qaeda militants.<br><br>To join the <a href="https://sites.google.com/view/were-talkin-books/home" target="_blank">We’re Talkin’ Books! Club</a> group, contact Blanche Angelo at beangelo@livermore.lib.ca.us or call 925-373-5574.<br><br>More Info: <a href="http://www.livermorelibrary.net/digital-library/books-more/book-clubs" target="_blank">Book Clubs at the Livermore Public Library</a><br><br>When: Thursday, November 4, 2021<br>Time: 7:00 PM<br>Where: Online via Zoom<br>Suggested Audience: Adults<br>Contact: Blanche Angelo
X-ALT-DESC;FMTTYPE=text/html:Upcoming Book Club Pick:&nbsp;<br><br><strong><a href="https://livermorelibrary.bibliocommons.com/v2/record/S175C1612774" target="_self"><em>The Bad-Ass Librarians of Timbuktu and Their Race to Save the World's Most Precious Manuscripts</em></a> by Joshua Hammer</strong><br><br>Joshua Hammer’s book describes how a group of Timbuktu librarians enacted a daring plan to save the city's great collection of rare Islamic manuscripts from the threat of destruction at the hands of Al-Qaeda militants.<br><br>To join the <a href="https://sites.google.com/view/were-talkin-books/home" target="_blank">We’re Talkin’ Books! Club</a> group, contact Blanche Angelo at beangelo@livermore.lib.ca.us or call 925-373-5574.<br><br>More Info: <a href="http://www.livermorelibrary.net/digital-library/books-more/book-clubs" target="_blank">Book Clubs at the Livermore Public Library</a><br><br>When: Thursday, November 4, 2021<br>Time: 7:00 PM<br>Where: Online via Zoom<br>Suggested Audience: Adults<br>Contact: Blanche Angelo
LOCATION:
CLASS:PUBLIC
END:VEVENT
END:VCALENDAR
